BEGIN:VCALENDAR
VERSION:2.0
PRODID:-//Prostate Cancer Support - ECPv6.15.20//NONSGML v1.0//EN
CALSCALE:GREGORIAN
METHOD:PUBLISH
X-ORIGINAL-URL:https://prostatecancersupport.org
X-WR-CALDESC:Events for Prostate Cancer Support
REFRESH-INTERVAL;VALUE=DURATION:PT1H
X-Robots-Tag:noindex
X-PUBLISHED-TTL:PT1H
BEGIN:VTIMEZONE
TZID:Europe/London
BEGIN:DAYLIGHT
TZOFFSETFROM:+0000
TZOFFSETTO:+0100
TZNAME:BST
DTSTART:20250330T010000
END:DAYLIGHT
BEGIN:STANDARD
TZOFFSETFROM:+0100
TZOFFSETTO:+0000
TZNAME:GMT
DTSTART:20251026T010000
END:STANDARD
BEGIN:DAYLIGHT
TZOFFSETFROM:+0000
TZOFFSETTO:+0100
TZNAME:BST
DTSTART:20260329T010000
END:DAYLIGHT
BEGIN:STANDARD
TZOFFSETFROM:+0100
TZOFFSETTO:+0000
TZNAME:GMT
DTSTART:20261025T010000
END:STANDARD
BEGIN:DAYLIGHT
TZOFFSETFROM:+0000
TZOFFSETTO:+0100
TZNAME:BST
DTSTART:20270328T010000
END:DAYLIGHT
BEGIN:STANDARD
TZOFFSETFROM:+0100
TZOFFSETTO:+0000
TZNAME:GMT
DTSTART:20271031T010000
END:STANDARD
END:VTIMEZONE
BEGIN:VEVENT
DTSTART;TZID=Europe/London:20260213T120000
DTEND;TZID=Europe/London:20260213T153000
DTSTAMP:20260425T220230
CREATED:20260208T211147Z
LAST-MODIFIED:20260208T213415Z
UID:1075-1770984000-1770996600@prostatecancersupport.org
SUMMARY:Community Men's Health Fair
DESCRIPTION:PCS is supporting the British Muslim Heritage Centre (BMHC) Community Health Fair on Friday 13th February at the British Muslim Heritage Centre in Manchester. We will be there to provide information and support to those with questions or concerns about prostate cancer.
URL:https://prostatecancersupport.org/event/community-mens-health-fair/
LOCATION:British Muslim Heritage Centre\, College Road\, Manchester\, M16 8BP\, United Kingdom
ATTACH;FMTTYPE=image/jpeg:https://prostatecancersupport.org/wp-content/uploads/2026/02/BMHC_1.jpg
END:VEVENT
END:VCALENDAR