BEGIN:VCALENDAR
VERSION:2.0
PRODID:-//Prostate Cancer Support - ECPv6.15.15//NONSGML v1.0//EN
CALSCALE:GREGORIAN
METHOD:PUBLISH
X-ORIGINAL-URL:https://prostatecancersupport.org
X-WR-CALDESC:Events for Prostate Cancer Support
REFRESH-INTERVAL;VALUE=DURATION:PT1H
X-Robots-Tag:noindex
X-PUBLISHED-TTL:PT1H
BEGIN:VTIMEZONE
TZID:Europe/London
BEGIN:DAYLIGHT
TZOFFSETFROM:+0000
TZOFFSETTO:+0100
TZNAME:BST
DTSTART:20250330T010000
END:DAYLIGHT
BEGIN:STANDARD
TZOFFSETFROM:+0100
TZOFFSETTO:+0000
TZNAME:GMT
DTSTART:20251026T010000
END:STANDARD
BEGIN:DAYLIGHT
TZOFFSETFROM:+0000
TZOFFSETTO:+0100
TZNAME:BST
DTSTART:20260329T010000
END:DAYLIGHT
BEGIN:STANDARD
TZOFFSETFROM:+0100
TZOFFSETTO:+0000
TZNAME:GMT
DTSTART:20261025T010000
END:STANDARD
BEGIN:DAYLIGHT
TZOFFSETFROM:+0000
TZOFFSETTO:+0100
TZNAME:BST
DTSTART:20270328T010000
END:DAYLIGHT
BEGIN:STANDARD
TZOFFSETFROM:+0100
TZOFFSETTO:+0000
TZNAME:GMT
DTSTART:20271031T010000
END:STANDARD
END:VTIMEZONE
BEGIN:VEVENT
DTSTART;VALUE=DATE:20260712
DTEND;VALUE=DATE:20260713
DTSTAMP:20260421T035556
CREATED:20260210T182659Z
LAST-MODIFIED:20260210T182659Z
UID:1085-1783814400-1783900799@prostatecancersupport.org
SUMMARY:Didsbury Car Show
DESCRIPTION:PCS will be attending the Didsbury and South Manchester Car to promote prostate cancer awareness and testing. The show was the first held in 2010 in Didsbury. Situated in Didsbury Park\, the initial show had around 80 cars on display. The show has grown since then to host more than 400 cars each year.
URL:https://prostatecancersupport.org/event/didsbury-car-show/
LOCATION:Didsbury Park\, Manchester\, M20 5LH
END:VEVENT
END:VCALENDAR