BEGIN:VCALENDAR
VERSION:2.0
PRODID:-//Prostate Cancer Support - ECPv6.15.15//NONSGML v1.0//EN
CALSCALE:GREGORIAN
METHOD:PUBLISH
X-ORIGINAL-URL:https://prostatecancersupport.org
X-WR-CALDESC:Events for Prostate Cancer Support
REFRESH-INTERVAL;VALUE=DURATION:PT1H
X-Robots-Tag:noindex
X-PUBLISHED-TTL:PT1H
BEGIN:VTIMEZONE
TZID:Europe/London
BEGIN:DAYLIGHT
TZOFFSETFROM:+0000
TZOFFSETTO:+0100
TZNAME:BST
DTSTART:20250330T010000
END:DAYLIGHT
BEGIN:STANDARD
TZOFFSETFROM:+0100
TZOFFSETTO:+0000
TZNAME:GMT
DTSTART:20251026T010000
END:STANDARD
BEGIN:DAYLIGHT
TZOFFSETFROM:+0000
TZOFFSETTO:+0100
TZNAME:BST
DTSTART:20260329T010000
END:DAYLIGHT
BEGIN:STANDARD
TZOFFSETFROM:+0100
TZOFFSETTO:+0000
TZNAME:GMT
DTSTART:20261025T010000
END:STANDARD
BEGIN:DAYLIGHT
TZOFFSETFROM:+0000
TZOFFSETTO:+0100
TZNAME:BST
DTSTART:20270328T010000
END:DAYLIGHT
BEGIN:STANDARD
TZOFFSETFROM:+0100
TZOFFSETTO:+0000
TZNAME:GMT
DTSTART:20271031T010000
END:STANDARD
END:VTIMEZONE
BEGIN:VEVENT
DTSTART;TZID=Europe/London:20260802T100000
DTEND;TZID=Europe/London:20260802T163000
DTSTAMP:20260421T140411
CREATED:20260418T125200Z
LAST-MODIFIED:20260418T125200Z
UID:1195-1785664800-1785688200@prostatecancersupport.org
SUMMARY:Tatton Park VW Event
DESCRIPTION:PCS will be attending the annual VW Show at Tatton Park near Knutsford on Sunday August 2nd 2026. Come along and see us – we’ll have a stand and will be present with members VW cars ! \n  \n 
URL:https://prostatecancersupport.org/event/tatton-park-vw-event/
LOCATION:Tatton Park\, Knutsford\, Tatton Park\, Knutsord\, Cheshire\, WA16 6SG
ATTACH;FMTTYPE=image/webp:https://prostatecancersupport.org/wp-content/uploads/2026/04/tatton-banner-2026-280x1200-final.webp
END:VEVENT
END:VCALENDAR